BEGIN:VCALENDAR
VERSION:2.0
PRODID:-//wp-events-plugin.com//7.2.3.1//EN
TZID:Europe/Berlin
X-WR-TIMEZONE:Europe/Berlin
BEGIN:VEVENT
UID:2374@galli-muenchen.de
DTSTART;TZID=Europe/Berlin:20260627T200000
DTEND;TZID=Europe/Berlin:20260627T200000
DTSTAMP:20260302T023735Z
URL:https://galli-muenchen.de/veranstaltungen/gallis-krimi-komoedie-teil-1
 -01-01-2025/
SUMMARY:Galli’s Krimi Komödie – Teil 2
DESCRIPTION:In den beiden amüsant spannenden Krimiteilen löst Henri Hadde
 rhai\, der ausgefuchste und erfahrene Hauptkommissar\, Kriminalfälle der 
 besonderen Art auf ganz spezielle Art und Weise.
ATTACH;FMTTYPE=image/jpeg:https://galli-muenchen.de/wp-content/uploads/202
 2/08/Gallis-Krimi-Komoedie-3x1-1.jpg
CATEGORIES:Abendtheater,Alle Termine,Erwachsene,NEU: Kachel »Für
 Erwachsene«,Spielplan Erwachsene,Termine
LOCATION:Galli Theater & Training Center München – Amalienpassage\, Tür
 kenstraße 86\, München\, Bayern\, 80799\, Deutschland
GEO:48.151762;11.577296
X-APPLE-STRUCTURED-LOCATION;VALUE=URI;X-ADDRESS=Türkenstraße 86\, Münche
 n\, Bayern\, 80799\, Deutschland;X-APPLE-RADIUS=100;X-TITLE=Galli Theater 
 & Training Center München – Amalienpassage:geo:48.151762,11.577296
END:VEVENT
BEGIN:VTIMEZONE
TZID:Europe/Berlin
X-LIC-LOCATION:Europe/Berlin
BEGIN:DAYLIGHT
DTSTART:20260329T030000
TZOFFSETFROM:+0100
TZOFFSETTO:+0200
TZNAME:CEST
END:DAYLIGHT
END:VTIMEZONE
END:VCALENDAR