BEGIN:VCALENDAR
VERSION:2.0
PRODID:-//wp-events-plugin.com//7.2.3.1//EN
TZID:Europe/Berlin
X-WR-TIMEZONE:Europe/Berlin
BEGIN:VEVENT
UID:2527@galli-muenchen.de
DTSTART;TZID=Europe/Berlin:20260626T200000
DTEND;TZID=Europe/Berlin:20260626T200000
DTSTAMP:20260302T023606Z
URL:https://galli-muenchen.de/veranstaltungen/belladonna-2/
SUMMARY:Belladonna
DESCRIPTION:Wie soll die Frau sein: schön\, intelligent\, unterhaltsam\, e
 rotisch\, erfolgreich\, souverän. Mit atemberaubenden Verwandlungen gelin
 gt der Protagonistin Helena George der Spagat vom mädchenhaften Clown zur
  umwerfenden Frau. Ein wahres Rollenkaleidoskop!
ATTACH;FMTTYPE=image/jpeg:https://galli-muenchen.de/wp-content/uploads/201
 8/03/belladonna_h_3x1.jpg
CATEGORIES:Abendtheater,Alle Termine,Erwachsene,NEU: Kachel »Für
 Erwachsene«,Spielplan Erwachsene,Termine
LOCATION:Galli Theater & Training Center München – Amalienpassage\, Tür
 kenstraße 86\, München\, Bayern\, 80799\, Deutschland
GEO:48.151762;11.577296
X-APPLE-STRUCTURED-LOCATION;VALUE=URI;X-ADDRESS=Türkenstraße 86\, Münche
 n\, Bayern\, 80799\, Deutschland;X-APPLE-RADIUS=100;X-TITLE=Galli Theater 
 & Training Center München – Amalienpassage:geo:48.151762,11.577296
END:VEVENT
BEGIN:VTIMEZONE
TZID:Europe/Berlin
X-LIC-LOCATION:Europe/Berlin
BEGIN:DAYLIGHT
DTSTART:20260329T030000
TZOFFSETFROM:+0100
TZOFFSETTO:+0200
TZNAME:CEST
END:DAYLIGHT
END:VTIMEZONE
END:VCALENDAR